Workbook

Sheet 工作表1
A1: 請自行依費用別修改支給項目或單價
D2: 新北市立林口高中( )印領清冊
K3: 實領金額 | L3: 金融機構轉入帳號
A4: 序號 | B4: 編號 | C4: 服務單位 | D4: 姓名 | E4: 身分證字號 | F4: 地址 | G4: 節數 字數 | H4: 單價 | I4: 鐘點費 稿費 | J4: 補充保費 | K4: (扣除補充保費) | L4: 戶名 | M4: 銀行分行碼(7碼) | N4: 帳號 | O4: 電話 | P4: 銀行分行名稱
A5: 1 | J5: =IF(LEN(F5)<3,0,IF(#REF!="免扣",0,IF(SUMIF(D:D,L5,I:I)>($L$2-1),ROUND(I5*$J$2,0),0))) -> 0 | K5: =+I5-J5 -> 0 | L5: =+D5 -> 0 | P5: =IF(LEN(M5)=0,"",IF(VALUE(M5)=7000021,IF(TYPE(VLOOKUP(LEFT(N5,7),[1]銀行代碼表!J:K,2,0))=16,"郵局局號可能有誤",VLOOKUP(LEFT(N5,7),[1]銀行代碼表!J:K,2,0)),IF(TYPE(VLOOKUP(M5,[1]銀行代碼表!C:D,2,0))=16,"銀行分行代碼可能有誤",VLOOKUP(M5,[1]銀行代碼表!C:D,2,0))))
A6: 1 | J6: =IF(LEN(F6)<3,0,IF(#REF!="免扣",0,IF(SUMIF(D:D,L6,I:I)>($L$2-1),ROUND(I6*$J$2,0),0))) -> 0 | K6: =+I6-J6 -> 0 | L6: =+D6 -> 0 | P6: =IF(LEN(M6)=0,"",IF(VALUE(M6)=7000021,IF(TYPE(VLOOKUP(LEFT(N6,7),[1]銀行代碼表!J:K,2,0))=16,"郵局局號可能有誤",VLOOKUP(LEFT(N6,7),[1]銀行代碼表!J:K,2,0)),IF(TYPE(VLOOKUP(M6,[1]銀行代碼表!C:D,2,0))=16,"銀行分行代碼可能有誤",VLOOKUP(M6,[1]銀行代碼表!C:D,2,0))))
A7: 2 | J7: =IF(LEN(F7)<3,0,IF(#REF!="免扣",0,IF(SUMIF(D:D,L7,I:I)>($L$2-1),ROUND(I7*$J$2,0),0))) -> 0 | K7: =+I7-J7 -> 0 | L7: =+D7 -> 0 | P7: =IF(LEN(M7)=0,"",IF(VALUE(M7)=7000021,IF(TYPE(VLOOKUP(LEFT(N7,7),[1]銀行代碼表!J:K,2,0))=16,"郵局局號可能有誤",VLOOKUP(LEFT(N7,7),[1]銀行代碼表!J:K,2,0)),IF(TYPE(VLOOKUP(M7,[1]銀行代碼表!C:D,2,0))=16,"銀行分行代碼可能有誤",VLOOKUP(M7,[1]銀行代碼表!C:D,2,0))))
A8: 3 | J8: =IF(LEN(F8)<3,0,IF(#REF!="免扣",0,IF(SUMIF(D:D,L8,I:I)>($L$2-1),ROUND(I8*$J$2,0),0))) -> 0 | K8: =+I8-J8 -> 0 | L8: =+D8 -> 0 | P8: =IF(LEN(M8)=0,"",IF(VALUE(M8)=7000021,IF(TYPE(VLOOKUP(LEFT(N8,7),[1]銀行代碼表!J:K,2,0))=16,"郵局局號可能有誤",VLOOKUP(LEFT(N8,7),[1]銀行代碼表!J:K,2,0)),IF(TYPE(VLOOKUP(M8,[1]銀行代碼表!C:D,2,0))=16,"銀行分行代碼可能有誤",VLOOKUP(M8,[1]銀行代碼表!C:D,2,0))))
A9: 4 | J9: =IF(LEN(F9)<3,0,IF(#REF!="免扣",0,IF(SUMIF(D:D,L9,I:I)>($L$2-1),ROUND(I9*$J$2,0),0))) -> 0 | K9: =+I9-J9 -> 0 | L9: =+D9 -> 0 | P9: =IF(LEN(M9)=0,"",IF(VALUE(M9)=7000021,IF(TYPE(VLOOKUP(LEFT(N9,7),[1]銀行代碼表!J:K,2,0))=16,"郵局局號可能有誤",VLOOKUP(LEFT(N9,7),[1]銀行代碼表!J:K,2,0)),IF(TYPE(VLOOKUP(M9,[1]銀行代碼表!C:D,2,0))=16,"銀行分行代碼可能有誤",VLOOKUP(M9,[1]銀行代碼表!C:D,2,0))))
A10: 5 | J10: =IF(LEN(F10)<3,0,IF(#REF!="免扣",0,IF(SUMIF(D:D,L10,I:I)>($L$2-1),ROUND(I10*$J$2,0),0))) -> 0 | K10: =+I10-J10 -> 0 | L10: =+D10 -> 0 | P10: =IF(LEN(M10)=0,"",IF(VALUE(M10)=7000021,IF(TYPE(VLOOKUP(LEFT(N10,7),[1]銀行代碼表!J:K,2,0))=16,"郵局局號可能有誤",VLOOKUP(LEFT(N10,7),[1]銀行代碼表!J:K,2,0)),IF(TYPE(VLOOKUP(M10,[1]銀行代碼表!C:D,2,0))=16,"銀行分行代碼可能有誤",VLOOKUP(M10,[1]銀行代碼表!C:D,2,0))))
A11: 13 | J11: =IF(LEN(F11)<3,0,IF(#REF!="免扣",0,IF(SUMIF(D:D,L11,I:I)>($L$2-1),ROUND(I11*$J$2,0),0))) -> 0 | K11: =+I11-J11 -> 0 | L11: =+D11 -> 0 | P11: =IF(LEN(M11)=0,"",IF(VALUE(M11)=7000021,IF(TYPE(VLOOKUP(LEFT(N11,7),[1]銀行代碼表!J:K,2,0))=16,"郵局局號可能有誤",VLOOKUP(LEFT(N11,7),[1]銀行代碼表!J:K,2,0)),IF(TYPE(VLOOKUP(M11,[1]銀行代碼表!C:D,2,0))=16,"銀行分行代碼可能有誤",VLOOKUP(M11,[1]銀行代碼表!C:D,2,0))))
A12: 14 | J12: =IF(LEN(F12)<3,0,IF(#REF!="免扣",0,IF(SUMIF(D:D,L12,I:I)>($L$2-1),ROUND(I12*$J$2,0),0))) -> 0 | K12: =+I12-J12 -> 0 | L12: =+D12 -> 0 | P12: =IF(LEN(M12)=0,"",IF(VALUE(M12)=7000021,IF(TYPE(VLOOKUP(LEFT(N12,7),[1]銀行代碼表!J:K,2,0))=16,"郵局局號可能有誤",VLOOKUP(LEFT(N12,7),[1]銀行代碼表!J:K,2,0)),IF(TYPE(VLOOKUP(M12,[1]銀行代碼表!C:D,2,0))=16,"銀行分行代碼可能有誤",VLOOKUP(M12,[1]銀行代碼表!C:D,2,0))))
A13: 15 | J13: =IF(LEN(F13)<3,0,IF(#REF!="免扣",0,IF(SUMIF(D:D,L13,I:I)>($L$2-1),ROUND(I13*$J$2,0),0))) -> 0 | K13: =+I13-J13 -> 0 | L13: =+D13 -> 0 | P13: =IF(LEN(M13)=0,"",IF(VALUE(M13)=7000021,IF(TYPE(VLOOKUP(LEFT(N13,7),[1]銀行代碼表!J:K,2,0))=16,"郵局局號可能有誤",VLOOKUP(LEFT(N13,7),[1]銀行代碼表!J:K,2,0)),IF(TYPE(VLOOKUP(M13,[1]銀行代碼表!C:D,2,0))=16,"銀行分行代碼可能有誤",VLOOKUP(M13,[1]銀行代碼表!C:D,2,0))))
A14: 16 | J14: =IF(LEN(F14)<3,0,IF(#REF!="免扣",0,IF(SUMIF(D:D,L14,I:I)>($L$2-1),ROUND(I14*$J$2,0),0))) -> 0 | K14: =+I14-J14 -> 0 | L14: =+D14 -> 0 | P14: =IF(LEN(M14)=0,"",IF(VALUE(M14)=7000021,IF(TYPE(VLOOKUP(LEFT(N14,7),[1]銀行代碼表!J:K,2,0))=16,"郵局局號可能有誤",VLOOKUP(LEFT(N14,7),[1]銀行代碼表!J:K,2,0)),IF(TYPE(VLOOKUP(M14,[1]銀行代碼表!C:D,2,0))=16,"銀行分行代碼可能有誤",VLOOKUP(M14,[1]銀行代碼表!C:D,2,0))))
A15: 17 | J15: =IF(LEN(F15)<3,0,IF(#REF!="免扣",0,IF(SUMIF(D:D,L15,I:I)>($L$2-1),ROUND(I15*$J$2,0),0))) -> 0 | K15: =+I15-J15 -> 0 | L15: =+D15 -> 0 | P15: =IF(LEN(M15)=0,"",IF(VALUE(M15)=7000021,IF(TYPE(VLOOKUP(LEFT(N15,7),[1]銀行代碼表!J:K,2,0))=16,"郵局局號可能有誤",VLOOKUP(LEFT(N15,7),[1]銀行代碼表!J:K,2,0)),IF(TYPE(VLOOKUP(M15,[1]銀行代碼表!C:D,2,0))=16,"銀行分行代碼可能有誤",VLOOKUP(M15,[1]銀行代碼表!C:D,2,0))))
A16: 18 | J16: =IF(LEN(F16)<3,0,IF(#REF!="免扣",0,IF(SUMIF(D:D,L16,I:I)>($L$2-1),ROUND(I16*$J$2,0),0))) -> 0 | K16: =+I16-J16 -> 0 | L16: =+D16 -> 0 | P16: =IF(LEN(M16)=0,"",IF(VALUE(M16)=7000021,IF(TYPE(VLOOKUP(LEFT(N16,7),[1]銀行代碼表!J:K,2,0))=16,"郵局局號可能有誤",VLOOKUP(LEFT(N16,7),[1]銀行代碼表!J:K,2,0)),IF(TYPE(VLOOKUP(M16,[1]銀行代碼表!C:D,2,0))=16,"銀行分行代碼可能有誤",VLOOKUP(M16,[1]銀行代碼表!C:D,2,0))))
A17: 19 | J17: =IF(LEN(F17)<3,0,IF(#REF!="免扣",0,IF(SUMIF(D:D,L17,I:I)>($L$2-1),ROUND(I17*$J$2,0),0))) -> 0 | K17: =+I17-J17 -> 0 | L17: =+D17 -> 0 | P17: =IF(LEN(M17)=0,"",IF(VALUE(M17)=7000021,IF(TYPE(VLOOKUP(LEFT(N17,7),[1]銀行代碼表!J:K,2,0))=16,"郵局局號可能有誤",VLOOKUP(LEFT(N17,7),[1]銀行代碼表!J:K,2,0)),IF(TYPE(VLOOKUP(M17,[1]銀行代碼表!C:D,2,0))=16,"銀行分行代碼可能有誤",VLOOKUP(M17,[1]銀行代碼表!C:D,2,0))))
F18: 總計 | I18: =SUM(I5:I17) -> 0 | J18: =IF(LEN(F18)<3,0,IF(#REF!="免扣",0,IF(SUMIF(D:D,L18,I:I)>($L$2-1),ROUND(I18*$J$2,0),0))) -> 0 | K18: =SUM(K5:K17) -> 0
D19: ＊入戶金額詳附件金融機構證明文件
A22: 製表人 | E22: 出納組 | H22: 人事室 | K22: 會計審核 | N22: 校長
A24: 單位主管 | E24: 總務主任 | K24: 會計主任
